BEGIN:VCALENDAR
VERSION:2.0
PRODID:-//jEvents 2.0 for Joomla//EN
CALSCALE:GREGORIAN
METHOD:PUBLISH
BEGIN:VTIMEZONE
TZID:Europe/Berlin
END:VTIMEZONE
BEGIN:VEVENT
UID:05e5f63b580ca171a844a1b918b34a0c
CATEGORIES:Freiw. Feuerwehr
CREATED:20250102T104300
SUMMARY:JHV Jugendfeuerwehr
LOCATION:Hirten-Deel
DESCRIPTION;ENCODING=QUOTED-PRINTABLE:
DTSTAMP:20260423T203419Z
DTSTART;TZID=Europe/Berlin:20250103T193000
SEQUENCE:0
TRANSP:OPAQUE
END:VEVENT
END:VCALENDAR