BEGIN:VCALENDAR
VERSION:2.0
PRODID:-//jEvents 2.0 for Joomla//EN
CALSCALE:GREGORIAN
METHOD:PUBLISH
BEGIN:VTIMEZONE
TZID:Europe/Berlin
END:VTIMEZONE
BEGIN:VEVENT
UID:a44d23e8cccef3c2dfb1c51d52af9f1e
CATEGORIES:Freiw. Feuerwehr
CREATED:20250102T105508
SUMMARY:JHV FF Schmalfeld
LOCATION:Hirten-Deel
DESCRIPTION;ENCODING=QUOTED-PRINTABLE:
DTSTAMP:20260423T203632Z
DTSTART;TZID=Europe/Berlin:20250110T193000
SEQUENCE:0
TRANSP:OPAQUE
END:VEVENT
END:VCALENDAR