BEGIN:VCALENDAR
VERSION:2.0
PRODID:-//jEvents 2.0 for Joomla//EN
CALSCALE:GREGORIAN
METHOD:PUBLISH
BEGIN:VTIMEZONE
TZID:Europe/Berlin
END:VTIMEZONE
BEGIN:VEVENT
UID:22da6c383d663c24eaca6e54fab6132c
CATEGORIES:Gemeinde
CREATED:20250108T132626
SUMMARY:Gemeinderat
LOCATION:Hirten-Deel
DESCRIPTION;ENCODING=QUOTED-PRINTABLE:
DTSTAMP:20260425T121857Z
DTSTART;TZID=Europe/Berlin:20251013T193000
SEQUENCE:0
TRANSP:OPAQUE
END:VEVENT
END:VCALENDAR