BEGIN:VCALENDAR
VERSION:2.0
PRODID:-//jEvents 2.0 for Joomla//EN
CALSCALE:GREGORIAN
METHOD:PUBLISH
BEGIN:VTIMEZONE
TZID:Europe/Berlin
END:VTIMEZONE
BEGIN:VEVENT
UID:0b6cdb0ecedf188d84cb8287e92f35c1
CATEGORIES:-
CREATED:20250108T133510
SUMMARY:Theateraufführung Weihnachtsmärchen 
LOCATION:Hirten-Deel
DESCRIPTION;ENCODING=QUOTED-PRINTABLE:
DTSTAMP:20260423T203052Z
DTSTART;TZID=Europe/Berlin:20250123T153000
SEQUENCE:0
TRANSP:OPAQUE
END:VEVENT
END:VCALENDAR