BEGIN:VCALENDAR
VERSION:2.0
PRODID:-//jEvents 2.0 for Joomla//EN
CALSCALE:GREGORIAN
METHOD:PUBLISH
BEGIN:VTIMEZONE
TZID:Europe/Berlin
END:VTIMEZONE
BEGIN:VEVENT
UID:8964adc4bd5d94d74c3d73bf0b592c99
CATEGORIES:Gemeinde
CREATED:20250108T133854
SUMMARY:Gemeinderat 
LOCATION:Hirten-Deel
DESCRIPTION;ENCODING=QUOTED-PRINTABLE:
DTSTAMP:20260423T203515Z
DTSTART;TZID=Europe/Berlin:20251208T193000
SEQUENCE:0
TRANSP:OPAQUE
END:VEVENT
END:VCALENDAR