BEGIN:VCALENDAR
VERSION:2.0
PRODID:-//jEvents 2.0 for Joomla//EN
CALSCALE:GREGORIAN
METHOD:PUBLISH
BEGIN:VTIMEZONE
TZID:Europe/Berlin
END:VTIMEZONE
BEGIN:VEVENT
UID:4f5845e20518bccd0bdedce8fed13a4f
CATEGORIES:Gemeinde
CREATED:20250120T093247
SUMMARY:Sitzung Kulturausschuss
LOCATION:Hirten-Deel
DESCRIPTION;ENCODING=QUOTED-PRINTABLE:<p>Bekanntmachung der Gemeinde Schmalfeld</p><p><br />Am Dienstag, dem 11.0
 2.2025, findet um 19:30 Uhr in der "Hirten-Deel", Am Sportplatz, 24640 Schm
 alfeld, die Sitzung des Kulturausschusses Schmalfeld statt.</p><p>Ich lade 
 Sie hierzu ein.</p><p><strong>T a g e s o r d n u n g:</strong><br />Öffent
 licher Teil:<br />1. Eröffnen der Sitzung, Feststellen der Ordnungsmäßigkei
 t der<br />Einladung, der Anwesenheit und der Beschlussfähigkeit<br />2. Ge
 nehmigung der Tagesordnung und Entscheidung des<br />Kulturausschusses über
  den Ausschluss der Öffentlichkeit<br />3. Einwände und Genehmigung der Nie
 derschrift der letzten<br />Sitzung vom 19.11.2024<br />4. Einwohnerfrageze
 it Teil 1<br />5. Brückenfest 2025; Beteiligung der Schmalfelder Institutio
 nen<br />und Vereine<br />6. Einwohnerfragezeit Teil 2<br />7. Verschiedene
 s<br />8. Themen für die nächste Sitzung<br />9. Schließen der Sitzung</p><
 p>gez. Thorsten Helten<br />Ausschussvorsitzender</p>
DTSTAMP:20260423T203548Z
DTSTART;TZID=Europe/Berlin:20250211T193000
SEQUENCE:0
TRANSP:OPAQUE
END:VEVENT
END:VCALENDAR